BEGIN:VCALENDAR
VERSION:2.0
PRODID:-//KDC Loon op Zand - ECPv6.15.18//NONSGML v1.0//EN
CALSCALE:GREGORIAN
METHOD:PUBLISH
X-WR-CALNAME:KDC Loon op Zand
X-ORIGINAL-URL:https://kdc-loz.nl
X-WR-CALDESC:Evenementen voor KDC Loon op Zand
REFRESH-INTERVAL;VALUE=DURATION:PT1H
X-Robots-Tag:noindex
X-PUBLISHED-TTL:PT1H
BEGIN:VTIMEZONE
TZID:Europe/Amsterdam
BEGIN:DAYLIGHT
TZOFFSETFROM:+0100
TZOFFSETTO:+0200
TZNAME:CEST
DTSTART:20250330T010000
END:DAYLIGHT
BEGIN:STANDARD
TZOFFSETFROM:+0200
TZOFFSETTO:+0100
TZNAME:CET
DTSTART:20251026T010000
END:STANDARD
BEGIN:DAYLIGHT
TZOFFSETFROM:+0100
TZOFFSETTO:+0200
TZNAME:CEST
DTSTART:20260329T010000
END:DAYLIGHT
BEGIN:STANDARD
TZOFFSETFROM:+0200
TZOFFSETTO:+0100
TZNAME:CET
DTSTART:20261025T010000
END:STANDARD
BEGIN:DAYLIGHT
TZOFFSETFROM:+0100
TZOFFSETTO:+0200
TZNAME:CEST
DTSTART:20270328T010000
END:DAYLIGHT
BEGIN:STANDARD
TZOFFSETFROM:+0200
TZOFFSETTO:+0100
TZNAME:CET
DTSTART:20271031T010000
END:STANDARD
END:VTIMEZONE
BEGIN:VEVENT
DTSTART;TZID=Europe/Amsterdam:20260421T190000
DTEND;TZID=Europe/Amsterdam:20260421T210000
DTSTAMP:20260420T123412
CREATED:20251216T100158Z
LAST-MODIFIED:20260219T102152Z
UID:2063-1776798000-1776805200@kdc-loz.nl
SUMMARY:Repair Café Loon op Zand
DESCRIPTION:
URL:https://kdc-loz.nl/agenda/repair-cafe-loon-op-zand-3/
LOCATION:Venloene\, Loon op Zand\, De Venloene 1\, Loon op Zand\, Noord Brabant\, 5175 CX\, Nederland
CATEGORIES:Repair Café
ATTACH;FMTTYPE=image/png:https://kdc-loz.nl/wp-content/uploads/2026/02/KDC-Logo-DEF-Repair-Cafe2-scaled.png
END:VEVENT
BEGIN:VEVENT
DTSTART;TZID=Europe/Amsterdam:20260502T110000
DTEND;TZID=Europe/Amsterdam:20260502T130000
DTSTAMP:20260420T123412
CREATED:20251216T100246Z
LAST-MODIFIED:20260219T102053Z
UID:2065-1777719600-1777726800@kdc-loz.nl
SUMMARY:Zaterdag opening Repair Café Kaatsheuvel
DESCRIPTION:
URL:https://kdc-loz.nl/agenda/zaterdag-opening-repair-cafe-kaatsheuvel-4/
LOCATION:Capelsestraat Kaatsheuvel\, Capelsestraat 1b\, Kaatsheuvel\, Kaatsheuvel\, 5171TC\, Netherlands
CATEGORIES:Repair Café
ATTACH;FMTTYPE=image/png:https://kdc-loz.nl/wp-content/uploads/2026/02/KDC-Logo-DEF-Repair-Cafe2-scaled.png
END:VEVENT
BEGIN:VEVENT
DTSTART;TZID=Europe/Amsterdam:20260507T190000
DTEND;TZID=Europe/Amsterdam:20260507T210000
DTSTAMP:20260420T123412
CREATED:20251216T100327Z
LAST-MODIFIED:20260219T102023Z
UID:2067-1778180400-1778187600@kdc-loz.nl
SUMMARY:Repair Café Kaatsheuvel
DESCRIPTION:
URL:https://kdc-loz.nl/agenda/repair-cafe-kaatsheuvel-8/
LOCATION:Capelsestraat Kaatsheuvel\, Capelsestraat 1b\, Kaatsheuvel\, Kaatsheuvel\, 5171TC\, Netherlands
CATEGORIES:Repair Café
ATTACH;FMTTYPE=image/png:https://kdc-loz.nl/wp-content/uploads/2026/02/KDC-Logo-DEF-Repair-Cafe2-scaled.png
END:VEVENT
BEGIN:VEVENT
DTSTART;TZID=Europe/Amsterdam:20260519T190000
DTEND;TZID=Europe/Amsterdam:20260519T210000
DTSTAMP:20260420T123412
CREATED:20251216T100413Z
LAST-MODIFIED:20260219T102004Z
UID:2069-1779217200-1779224400@kdc-loz.nl
SUMMARY:Repair Café Loon op Zand
DESCRIPTION:
URL:https://kdc-loz.nl/agenda/repair-cafe-loon-op-zand-4/
LOCATION:Venloene\, Loon op Zand\, De Venloene 1\, Loon op Zand\, Noord Brabant\, 5175 CX\, Nederland
CATEGORIES:Repair Café
ATTACH;FMTTYPE=image/png:https://kdc-loz.nl/wp-content/uploads/2026/02/KDC-Logo-DEF-Repair-Cafe2-scaled.png
END:VEVENT
BEGIN:VEVENT
DTSTART;TZID=Europe/Amsterdam:20260521T140000
DTEND;TZID=Europe/Amsterdam:20260521T160000
DTSTAMP:20260420T123412
CREATED:20251216T100519Z
LAST-MODIFIED:20260219T101904Z
UID:2071-1779372000-1779379200@kdc-loz.nl
SUMMARY:Repair Café Kaatsheuvel
DESCRIPTION:
URL:https://kdc-loz.nl/agenda/repair-cafe-kaatsheuvel-9/
LOCATION:Capelsestraat Kaatsheuvel\, Capelsestraat 1b\, Kaatsheuvel\, Kaatsheuvel\, 5171TC\, Netherlands
CATEGORIES:Repair Café
ATTACH;FMTTYPE=image/png:https://kdc-loz.nl/wp-content/uploads/2026/02/KDC-Logo-DEF-Repair-Cafe2-scaled.png
END:VEVENT
BEGIN:VEVENT
DTSTART;TZID=Europe/Amsterdam:20260604T190000
DTEND;TZID=Europe/Amsterdam:20260604T210000
DTSTAMP:20260420T123412
CREATED:20251216T100603Z
LAST-MODIFIED:20260219T101845Z
UID:2073-1780599600-1780606800@kdc-loz.nl
SUMMARY:Repair Café Kaatsheuvel
DESCRIPTION:
URL:https://kdc-loz.nl/agenda/repair-cafe-kaatsheuvel-10/
LOCATION:Capelsestraat Kaatsheuvel\, Capelsestraat 1b\, Kaatsheuvel\, Kaatsheuvel\, 5171TC\, Netherlands
CATEGORIES:Repair Café
ATTACH;FMTTYPE=image/png:https://kdc-loz.nl/wp-content/uploads/2026/02/KDC-Logo-DEF-Repair-Cafe2-scaled.png
END:VEVENT
BEGIN:VEVENT
DTSTART;TZID=Europe/Amsterdam:20260606T110000
DTEND;TZID=Europe/Amsterdam:20260606T130000
DTSTAMP:20260420T123412
CREATED:20251216T100652Z
LAST-MODIFIED:20260219T101819Z
UID:2075-1780743600-1780750800@kdc-loz.nl
SUMMARY:Zaterdag opening Repair Café Kaatsheuvel
DESCRIPTION:
URL:https://kdc-loz.nl/agenda/zaterdag-opening-repair-cafe-kaatsheuvel-5/
LOCATION:Capelsestraat Kaatsheuvel\, Capelsestraat 1b\, Kaatsheuvel\, Kaatsheuvel\, 5171TC\, Netherlands
CATEGORIES:Repair Café
ATTACH;FMTTYPE=image/png:https://kdc-loz.nl/wp-content/uploads/2026/02/KDC-Logo-DEF-Repair-Cafe2-scaled.png
END:VEVENT
BEGIN:VEVENT
DTSTART;TZID=Europe/Amsterdam:20260616T190000
DTEND;TZID=Europe/Amsterdam:20260616T210000
DTSTAMP:20260420T123412
CREATED:20251216T100741Z
LAST-MODIFIED:20260219T101758Z
UID:2077-1781636400-1781643600@kdc-loz.nl
SUMMARY:Repair Café Loon op Zand
DESCRIPTION:
URL:https://kdc-loz.nl/agenda/repair-cafe-loon-op-zand-5/
LOCATION:Venloene\, Loon op Zand\, De Venloene 1\, Loon op Zand\, Noord Brabant\, 5175 CX\, Nederland
CATEGORIES:Repair Café
ATTACH;FMTTYPE=image/png:https://kdc-loz.nl/wp-content/uploads/2026/02/KDC-Logo-DEF-Repair-Cafe2-scaled.png
END:VEVENT
BEGIN:VEVENT
DTSTART;TZID=Europe/Amsterdam:20260618T140000
DTEND;TZID=Europe/Amsterdam:20260618T160000
DTSTAMP:20260420T123412
CREATED:20251216T100826Z
LAST-MODIFIED:20260219T101738Z
UID:2079-1781791200-1781798400@kdc-loz.nl
SUMMARY:Repair Café Kaatsheuvel
DESCRIPTION:
URL:https://kdc-loz.nl/agenda/repair-cafe-kaatsheuvel-11/
LOCATION:Capelsestraat Kaatsheuvel\, Capelsestraat 1b\, Kaatsheuvel\, Kaatsheuvel\, 5171TC\, Netherlands
CATEGORIES:Repair Café
ATTACH;FMTTYPE=image/png:https://kdc-loz.nl/wp-content/uploads/2026/02/KDC-Logo-DEF-Repair-Cafe2-scaled.png
END:VEVENT
BEGIN:VEVENT
DTSTART;TZID=Europe/Amsterdam:20260626T150000
DTEND;TZID=Europe/Amsterdam:20260626T180000
DTSTAMP:20260420T123412
CREATED:20260219T101444Z
LAST-MODIFIED:20260219T102744Z
UID:2222-1782486000-1782496800@kdc-loz.nl
SUMMARY:KDC Café (besloten)
DESCRIPTION:
URL:https://kdc-loz.nl/agenda/kdc-cafe-besloten-2/
LOCATION:Capelsestraat Kaatsheuvel\, Capelsestraat 1b\, Kaatsheuvel\, Kaatsheuvel\, 5171TC\, Netherlands
ATTACH;FMTTYPE=image/png:https://kdc-loz.nl/wp-content/uploads/2026/02/Roze-Groen-Geillustreerd-Cocktailparty-Bedrijfs-Borrel-Evenement-Instagram-bericht-.png
END:VEVENT
BEGIN:VEVENT
DTSTART;TZID=Europe/Amsterdam:20260702T190000
DTEND;TZID=Europe/Amsterdam:20260702T210000
DTSTAMP:20260420T123412
CREATED:20251216T101036Z
LAST-MODIFIED:20260219T101711Z
UID:2081-1783018800-1783026000@kdc-loz.nl
SUMMARY:Repair Café Kaatsheuvel
DESCRIPTION:
URL:https://kdc-loz.nl/agenda/repair-cafe-kaatsheuvel-12/
LOCATION:Capelsestraat Kaatsheuvel\, Capelsestraat 1b\, Kaatsheuvel\, Kaatsheuvel\, 5171TC\, Netherlands
CATEGORIES:Repair Café
ATTACH;FMTTYPE=image/png:https://kdc-loz.nl/wp-content/uploads/2026/02/KDC-Logo-DEF-Repair-Cafe2-scaled.png
END:VEVENT
BEGIN:VEVENT
DTSTART;TZID=Europe/Amsterdam:20260704T110000
DTEND;TZID=Europe/Amsterdam:20260704T130000
DTSTAMP:20260420T123412
CREATED:20251216T101122Z
LAST-MODIFIED:20260219T101648Z
UID:2083-1783162800-1783170000@kdc-loz.nl
SUMMARY:zaterdag opening Repair Café Kaatsheuvel
DESCRIPTION:
URL:https://kdc-loz.nl/agenda/zaterdag-opening-repair-cafe-kaatsheuvel-6/
LOCATION:Capelsestraat Kaatsheuvel\, Capelsestraat 1b\, Kaatsheuvel\, Kaatsheuvel\, 5171TC\, Netherlands
CATEGORIES:Repair Café
ATTACH;FMTTYPE=image/png:https://kdc-loz.nl/wp-content/uploads/2026/02/KDC-Logo-DEF-Repair-Cafe2-scaled.png
END:VEVENT
BEGIN:VEVENT
DTSTART;TZID=Europe/Amsterdam:20260716T140000
DTEND;TZID=Europe/Amsterdam:20260716T160000
DTSTAMP:20260420T123412
CREATED:20251216T101346Z
LAST-MODIFIED:20260219T101626Z
UID:2087-1784210400-1784217600@kdc-loz.nl
SUMMARY:Repair Café Kaatsheuvel
DESCRIPTION:
URL:https://kdc-loz.nl/agenda/repair-cafe-kaatsheuvel-13/
LOCATION:Capelsestraat Kaatsheuvel\, Capelsestraat 1b\, Kaatsheuvel\, Kaatsheuvel\, 5171TC\, Netherlands
CATEGORIES:Repair Café
ATTACH;FMTTYPE=image/png:https://kdc-loz.nl/wp-content/uploads/2026/02/KDC-Logo-DEF-Repair-Cafe2-scaled.png
END:VEVENT
BEGIN:VEVENT
DTSTART;TZID=Europe/Amsterdam:20260721T190000
DTEND;TZID=Europe/Amsterdam:20260721T210000
DTSTAMP:20260420T123412
CREATED:20251216T101224Z
LAST-MODIFIED:20260219T101601Z
UID:2085-1784660400-1784667600@kdc-loz.nl
SUMMARY:Repair Café Loon op Zand
DESCRIPTION:
URL:https://kdc-loz.nl/agenda/repair-cafe-loon-op-zand-6/
LOCATION:Venloene\, Loon op Zand\, De Venloene 1\, Loon op Zand\, Noord Brabant\, 5175 CX\, Nederland
CATEGORIES:Repair Café
ATTACH;FMTTYPE=image/png:https://kdc-loz.nl/wp-content/uploads/2026/02/KDC-Logo-DEF-Repair-Cafe2-scaled.png
END:VEVENT
END:VCALENDAR